BEGIN:VCALENDAR
VERSION:2.0
PRODID:-//C.C.H. YUAN SHI DIAN Malaysia Organisation - ECPv4.6.2//NONSGML v1.0//EN
CALSCALE:GREGORIAN
METHOD:PUBLISH
X-WR-CALNAME:C.C.H. YUAN SHI DIAN Malaysia Organisation
X-ORIGINAL-URL:https://malaysia.cchysd.org
X-WR-CALDESC:Events for C.C.H. YUAN SHI DIAN Malaysia Organisation
BEGIN:VEVENT
DTSTART;TZID=Asia/Kuala_Lumpur:20260118T093000
DTEND;TZID=Asia/Kuala_Lumpur:20260118T123000
DTSTAMP:20260423T151703
CREATED:20260112T023300Z
LAST-MODIFIED:20260117T125124Z
UID:19322-1768728600-1768739400@malaysia.cchysd.org
SUMMARY:18/01/2026 原始点推广体验服务预约录取名单Yuan Shi Dian New Normal Promotion and Services Participants List
DESCRIPTION:\n1月18日周日日间推广体验服务预约录取名单Pertubuhan C.C.H. Yuan Shi Dian Malaysia – 18 January 2026 Sunday Session Promotion & Services \n\n\n\n\n\n\n\n\n\n\n\n\n\n\n\n\n\nNo\n 中文姓名\n Name\n\n\n1\n萝丽婷\nloh li thin\n\n\n2\n唐玲玲\ntongLengLeng\n\n\n3\n陈玮璇\ntan WoeiXuan⁩\n\n\n4\n \nYIP CHUI KHENG @ YEAP CHUI KHENG\n\n\n5\n \nTANG KIAW HWA\n\n\n6\n \nAzlim Bin Zamberi \n\n\n7\n \n \n\n\n8\n \n \n\n\n9\n \n \n\n\n10\n \n \n\n\n11\n \n \n\n\n12\n \n \n\n\n13\n \n \n\n\n14\n \n \n\n\n15\n \n \n\n\n16\n \n \n\n\n17\n \n \n\n\n18\n \n \n\n\n19\n \n \n\n\n20\n \n \n\n\n\n\n\n\n\n\n\n \n注意事项：\n●请携带身分证、穿棉质衣裤、大小毛巾各2件。 \n●学员及陪同家属 : 每一位学员只能由1位家属陪同。 \n●每个时段的报到时间如下:- \n\n\n\n\n\n\n\n\n\n\n  \n\n\n\n\n\n\n\n\n\n\n\n\n\n\n周日（日间）\n\n  9:30 报到\n\n\n\n\n\n\n\n\n\n\n\n\n\n\n\n\n\n\n\n\n\n\n\n\n\n\n\n\n
URL:https://malaysia.cchysd.org/event/promo180126/
CATEGORIES:原始点推广体验服务
ATTACH;FMTTYPE=image/jpeg:https://malaysia.cchysd.org/wp-content/uploads/2017/10/cch-general-01.jpg
END:VEVENT
END:VCALENDAR