BEGIN:VCALENDAR
VERSION:2.0
PRODID:-//C.C.H. YUAN SHI DIAN Malaysia Organisation - ECPv4.6.2//NONSGML v1.0//EN
CALSCALE:GREGORIAN
METHOD:PUBLISH
X-WR-CALNAME:C.C.H. YUAN SHI DIAN Malaysia Organisation
X-ORIGINAL-URL:https://malaysia.cchysd.org
X-WR-CALDESC:Events for C.C.H. YUAN SHI DIAN Malaysia Organisation
BEGIN:VEVENT
DTSTART;TZID=Asia/Kuala_Lumpur:20250615T093000
DTEND;TZID=Asia/Kuala_Lumpur:20250615T123000
DTSTAMP:20260424T053014
CREATED:20250525T131041Z
LAST-MODIFIED:20250614T103354Z
UID:18868-1749979800-1749990600@malaysia.cchysd.org
SUMMARY:15/06/2025 原始点新常态推广体验服务预约录取名单Yuan Shi Dian New Normal Promotion and Services Participants List
DESCRIPTION:6月15日周日日间推广体验服务预约录取名单Pertubuhan C.C.H. Yuan Shi Dian Malaysia – 15 June 2025 Sunday Session Promotion & Services \n\n\n\n\n\n\n\n\n\n\n\nNo\n 中文姓名\n Name\n\n\n1\n刘進武\nLaw Chin Boo \n\n\n2\nTan Mooi Hiok\nTAN MOOI HIOK\n\n\n3\n杨文敏\nLiong Mun meng \n\n\n4\n孫雅珠\nSon Ah Choo\n\n\n5\n欧阳发\nAu Yong Fatt\n\n\n6\n程觉兴 \nCheng Kok Heng \n\n\n7\n馮月满\nYee Mon @ hoong yuet moon\n\n\n8\n许益光\nKhor Aik Kwang \n\n\n9\n温观发\nWoon kon fatt\n\n\n10\n \nHoh Meng Chee\n\n\n11\n \n \n\n\n12\n \n \n\n\n13\n \n \n\n\n14\n \n \n\n\n15\n \n \n\n\n16\n \n \n\n\n17\n \n \n\n\n18\n \n \n\n\n19\n \n \n\n\n20\n \n \n\n\n\n\n\n\n\n \n注意事项：\n●请携带身分证、穿棉质衣裤、大小毛巾各2件。 \n●学员及陪同家属 : 每一位学员只能由1位家属陪同。 \n●每个时段的报到时间如下:- \n\n\n\n\n\n\n\n\n\n\n  \n\n\n\n\n\n\n\n\n\n\n\n\n周日（日间）\n\n  9:30 报到\n\n\n\n\n\n\n\n\n\n\n\n\n\n\n\n\n\n\n\n\n\n\n\n
URL:https://malaysia.cchysd.org/event/promo150625/
CATEGORIES:原始点推广体验服务
ATTACH;FMTTYPE=image/jpeg:https://malaysia.cchysd.org/wp-content/uploads/2017/10/cch-general-01.jpg
END:VEVENT
END:VCALENDAR