BEGIN:VCALENDAR
VERSION:2.0
PRODID:-//C.C.H. YUAN SHI DIAN Malaysia Organisation - ECPv4.6.2//NONSGML v1.0//EN
CALSCALE:GREGORIAN
METHOD:PUBLISH
X-WR-CALNAME:C.C.H. YUAN SHI DIAN Malaysia Organisation
X-ORIGINAL-URL:https://malaysia.cchysd.org
X-WR-CALDESC:Events for C.C.H. YUAN SHI DIAN Malaysia Organisation
BEGIN:VEVENT
DTSTART;TZID=Asia/Kuala_Lumpur:20250223T093000
DTEND;TZID=Asia/Kuala_Lumpur:20250223T123000
DTSTAMP:20260424T161452
CREATED:20250217T061805Z
LAST-MODIFIED:20250222T133222Z
UID:18622-1740303000-1740313800@malaysia.cchysd.org
SUMMARY:23/02/2025 原始点新常态推广体验服务预约录取名单 Yuan Shi Dian New Normal Promotion and Services Participants List
DESCRIPTION:2月23日周日日间推广体验服务预约录取名单Pertubuhan C.C.H. Yuan Shi Dian Malaysia – 23 February 2025 Sunday Session Promotion & Services \n\n\n\n\n\n\n\n\n\nNo\n 中文姓名\n Name\n\n\n1\n程觉兴 \nCheng kok heng\n\n\n2\n劉進武 \nLaw Chin Boo \n\n\n3\n朱麗潔\nCHOO Lee Kiat\n\n\n4\n陈明志\nTan Beng chee\n\n\n5\n \nFun Yee Moi\n\n\n6\n \nLim swee eng\n\n\n7\n汪国富 \nWONG KOK FOO\n\n\n8\n叶生\nYAP SHUN KUAN\n\n\n9\n朱丽娇\nChoo Lay Keow \n\n\n10\n \nNg Fan Kiat\n\n\n11\nBoh Jae Chin\nBoh Jae Chin\n\n\n12\nCheong Wen Tsae\nCheong Wen Tsae\n\n\n13\n \n \n\n\n14\n \n \n\n\n15\n \n \n\n\n16\n \n \n\n\n17\n \n \n\n\n18\n \n \n\n\n19\n \n \n\n\n20\n \n \n\n\n\n\n\n \n注意事项：\n●请携带身分证、穿棉质衣裤、大小毛巾各2件。 \n●学员及陪同家属 : 每一位学员只能由1位家属陪同。 \n●每个时段的报到时间如下:- \n\n\n\n\n\n\n\n\n\n\n  \n\n\n\n\n\n\n\n\n\n\n周日（日间）\n\n  9:30 报到\n\n\n\n\n\n\n\n\n\n\n\n\n\n\n\n\n\n\n\n\n\n
URL:https://malaysia.cchysd.org/event/promo230225/
CATEGORIES:原始点推广体验服务
ATTACH;FMTTYPE=image/jpeg:https://malaysia.cchysd.org/wp-content/uploads/2017/10/cch-general-01.jpg
END:VEVENT
END:VCALENDAR