BEGIN:VCALENDAR
VERSION:2.0
PRODID:-//C.C.H. YUAN SHI DIAN Malaysia Organisation - ECPv4.6.2//NONSGML v1.0//EN
CALSCALE:GREGORIAN
METHOD:PUBLISH
X-WR-CALNAME:C.C.H. YUAN SHI DIAN Malaysia Organisation
X-ORIGINAL-URL:https://malaysia.cchysd.org
X-WR-CALDESC:Events for C.C.H. YUAN SHI DIAN Malaysia Organisation
BEGIN:VEVENT
DTSTART;TZID=Asia/Kuala_Lumpur:20241215T093000
DTEND;TZID=Asia/Kuala_Lumpur:20241215T123000
DTSTAMP:20260424T194417
CREATED:20241208T054601Z
LAST-MODIFIED:20241213T065350Z
UID:18518-1734255000-1734265800@malaysia.cchysd.org
SUMMARY:15/12/2024 原始点推广体验服务预约录取名单 Yuan Shi Dian Promotion and Services Participants List
DESCRIPTION:12月15日周日日间推广体验服务预约录取名单Pertubuhan C.C.H. Yuan Shi Dian Malaysia – 15 December 2024 Sunday Session Promotion & Services \n\n\n\n\n\n\n\n\nNo\n 中文姓名\n Name\n\n\n1\n戴佑仲 \nTay Eu Teong\n\n\n2\n骆秀椒\nLoh Siew Cheoh \n\n\n3\n許寰錦\nKho wann kam\n\n\n4\n邹伟康 \nChow Wai Hong\n\n\n5\n郑玉仙 \nChang Yoke Shian\n\n\n6\n郑玉台 \nChang Geok Tai\n\n\n7\nLee Kok Kuan\nLee Kok Kuan\n\n\n8\n \nYong king vig\n\n\n9\n罗秀妹\nLok Sew Mooi\n\n\n10\n \n \n\n\n11\n \n \n\n\n12\n \n \n\n\n13\n \n \n\n\n14\n \n \n\n\n15\n \n \n\n\n16\n \n \n\n\n17\n \n \n\n\n18\n \n \n\n\n19\n \n \n\n\n20\n \n \n\n\n\n \n注意事项：\n●请携带身分证、穿棉质衣裤、大小毛巾各2件。 \n●学员及陪同家属 : 每一位学员只能由1位家属陪同。 \n●每个时段的报到时间如下:- \n\n\n\n\n\n\n\n\n\n\n  \n\n\n\n\n\n\n\n\n周日（日间）\n\n  9:30 报到\n\n\n\n\n\n\n\n\n\n\n\n\n\n\n\n\n\n\n\n  \nPoints to be noted:- \n\nKindly wear soft cotton knitted top & bottom\, bring along your Identity Card and 2 pieces each of the large and small towel.\nEach participant can only be accompanied by one (1) family member.\nReporting Time: The reporting time for the participant(s) and their accompanied family member(s) for each time slot is as follows:-\n\n\n  \n\n\n\n\n\n\n\n\nSunday Session\n\n 9:30am Reporting Time\n\n\n\n\n\n\n\n\n\n\n
URL:https://malaysia.cchysd.org/event/promo151224/
CATEGORIES:原始点推广体验服务
ATTACH;FMTTYPE=image/jpeg:https://malaysia.cchysd.org/wp-content/uploads/2017/10/cch-general-01.jpg
END:VEVENT
END:VCALENDAR