BEGIN:VCALENDAR
VERSION:2.0
PRODID:-//C.C.H. YUAN SHI DIAN Malaysia Organisation - ECPv4.6.2//NONSGML v1.0//EN
CALSCALE:GREGORIAN
METHOD:PUBLISH
X-WR-CALNAME:C.C.H. YUAN SHI DIAN Malaysia Organisation
X-ORIGINAL-URL:https://malaysia.cchysd.org
X-WR-CALDESC:Events for C.C.H. YUAN SHI DIAN Malaysia Organisation
BEGIN:VEVENT
DTSTART;TZID=Asia/Kuala_Lumpur:20240421T093000
DTEND;TZID=Asia/Kuala_Lumpur:20240421T123000
DTSTAMP:20260425T121443
CREATED:20240415T160026Z
LAST-MODIFIED:20240419T090720Z
UID:17759-1713691800-1713702600@malaysia.cchysd.org
SUMMARY:21/04/2024 原始点新常态推广体验服务预约录取名单 Yuan Shi Dian New Normal Promotion and Services Participants List
DESCRIPTION:4月21日周日日间推广体验服务预约录取名单Pertubuhan C.C.H. Yuan Shi Dian Malaysia – 21 April 2024 Sunday Session Promotion & Services \n  \n\n\n\n\n\n\n\n\nNo\n中文姓名\nName\n\n\n1\n林慧凤\n Leu Hui Fong\n\n\n2\n鲍添平\nPau Tiam Peng\n\n\n3\n張清強\nCHONG CHIN KEONG\n\n\n4\n陈晓萍\nTAN SIEW PENG\n\n\n5\n陈学金\nTAN YOK KIM\n\n\n6\n黄亚妹\nNG AH MOOI\n\n\n7\n陈耀坤\nTAN YEW KHOON\n\n\n8\n張孝義\nCHONG HAU YI\n\n\n9\n黄俊霖\nWong Jun Lim\n\n\n10\n刘丽香\nLOW LAY HEON\n\n\n11\n黄友嘉\nNG YOU KA\n\n\n12\nHurong\nHurong\n\n\n13\n骆秀椒\nLoh Siew Cheoh\n\n\n14\n郑欒华\nDang Luang Hwa\n\n\n15\n\nRudolf Widjajahakim\n\n\n16\n\n\n\n\n17\n\n\n\n\n18\n\n\n\n\n19\n\n\n\n\n20\n\n\n\n\n\n\n注意事项：\n●请携带身分证、穿棉质衣裤、大小毛巾各2件。 \n●学员及陪同家属 : 每一位学员只能由1位家属陪同。 \n●每个时段的报到时间如下:- \n\n\n\n\n\n\n\n\n\n\n  \n\n\n\n周日（日间）\n\n  9:30 报到\n\n\n\n\n\n\n\n\n\n\n\n\n\n\n  \nPoints to be noted:- \n\nKindly wear soft cotton knitted top & bottom\, bring along your Identity Card and 2 pieces each of the large and small towel.\nEach participant can only be accompanied by one (1) family member.\nReporting Time: The reporting time for the participant(s) and their accompanied family member(s) for each time slot is as follows:-\n\n\n  \n\n\n\nSunday Session\n\n 9:30am Reporting Time\n\n\n\n\n\n
URL:https://malaysia.cchysd.org/event/promo210424/
CATEGORIES:原始点推广体验服务
ATTACH;FMTTYPE=image/jpeg:https://malaysia.cchysd.org/wp-content/uploads/2017/10/cch-general-01.jpg
END:VEVENT
END:VCALENDAR