BEGIN:VCALENDAR
VERSION:2.0
PRODID:-//C.C.H. YUAN SHI DIAN Malaysia Organisation - ECPv4.6.2//NONSGML v1.0//EN
CALSCALE:GREGORIAN
METHOD:PUBLISH
X-WR-CALNAME:C.C.H. YUAN SHI DIAN Malaysia Organisation
X-ORIGINAL-URL:https://malaysia.cchysd.org
X-WR-CALDESC:Events for C.C.H. YUAN SHI DIAN Malaysia Organisation
BEGIN:VEVENT
DTSTART;TZID=Asia/Kuala_Lumpur:20240428T093000
DTEND;TZID=Asia/Kuala_Lumpur:20240428T123000
DTSTAMP:20260425T132750
CREATED:20240421T085513Z
LAST-MODIFIED:20240427T040600Z
UID:17819-1714296600-1714307400@malaysia.cchysd.org
SUMMARY:28/04/2024 原始点新常态推广体验服务预约录取名单 Yuan Shi Dian New Normal Promotion and Services Participants List
DESCRIPTION:4月28日周日日间推广体验服务预约录取名单Pertubuhan C.C.H. Yuan Shi Dian Malaysia – 28 April 2024 Sunday Session Promotion & Services \n  \n\n\n\n\n\n\n\n\nNo\n中文姓名\nName\n\n\n1\n\nLim seng chai\n\n\n2\n\nNG foo chin\n\n\n3\n\nNG bee leng\n\n\n4\n\nSHIRLEY SOON\n\n\n5\n杨汉明\nYeo Han Men\n\n\n6\nkoh mee leng\nkoh mee leng\n\n\n7\nMylin Navat\n\n\n\n8\nKoh mee chan\nKoh mee chan\n\n\n9\n黄俊霖\nWong Jun Lim\n\n\n10\n梁碧玉\nLeong Pek Yuk\n\n\n11\n杨晓莉\nyong siew lai\n\n\n12\n曾芳秀\nChan Fang Siew\n\n\n13\n徐尚业\nNorman See Shangye\n\n\n14\nLeong Sooi Yin\nLeong Sooi Yin\n\n\n15\n\n\n\n\n16\n\n\n\n\n17\n\n\n\n\n18\n\n\n\n\n19\n\n\n\n\n20\n\n\n\n\n\n\n注意事项：\n●请携带身分证、穿棉质衣裤、大小毛巾各2件。 \n●学员及陪同家属 : 每一位学员只能由1位家属陪同。 \n●每个时段的报到时间如下:- \n\n\n\n\n\n\n\n\n\n\n  \n\n\n\n周日（日间）\n\n  9:30 报到\n\n\n\n\n\n\n\n\n\n\n\n\n\n\n  \nPoints to be noted:- \n\nKindly wear soft cotton knitted top & bottom\, bring along your Identity Card and 2 pieces each of the large and small towel.\nEach participant can only be accompanied by one (1) family member.\nReporting Time: The reporting time for the participant(s) and their accompanied family member(s) for each time slot is as follows:-\n\n\n  \n\n\n\nSunday Session\n\n 9:30am Reporting Time\n\n\n\n\n\n
URL:https://malaysia.cchysd.org/event/promo280424/
CATEGORIES:原始点推广体验服务
ATTACH;FMTTYPE=image/jpeg:https://malaysia.cchysd.org/wp-content/uploads/2017/10/cch-general-01.jpg
END:VEVENT
END:VCALENDAR