BEGIN:VCALENDAR
VERSION:2.0
PRODID:-//C.C.H. YUAN SHI DIAN Malaysia Organisation - ECPv4.6.2//NONSGML v1.0//EN
CALSCALE:GREGORIAN
METHOD:PUBLISH
X-WR-CALNAME:C.C.H. YUAN SHI DIAN Malaysia Organisation
X-ORIGINAL-URL:https://malaysia.cchysd.org
X-WR-CALDESC:Events for C.C.H. YUAN SHI DIAN Malaysia Organisation
BEGIN:VEVENT
DTSTART;TZID=Asia/Kuala_Lumpur:20250824T093000
DTEND;TZID=Asia/Kuala_Lumpur:20250824T123000
DTSTAMP:20260424T011021
CREATED:20250817T055327Z
LAST-MODIFIED:20250824T001056Z
UID:19039-1756027800-1756038600@malaysia.cchysd.org
SUMMARY:24/08/2025 原始点推广体验服务预约录取名单Yuan Shi Dian New Normal Promotion and Services Participants List
DESCRIPTION:8月24日周日日间推广体验服务预约录取名单Pertubuhan C.C.H. Yuan Shi Dian Malaysia – 24 August 2025 Sunday Session Promotion & Services \n\n\n\n\n\n\n\n\n\n\n\nNo\n 中文姓名\n Name\n\n\n1\n李欣欣 \nLee Sin Sin\n\n\n2\n李欣葵\nLEE SIN KUI\n\n\n3\n林骏睿\nLim Jun Rui\n\n\n4\nLee hon shin\nLee hon shin\n\n\n5\n刘登\nLIU DENG\n\n\n6\n周宝月\nCheu Poh kuann\n\n\n7\n刘进武\nLaw Chin Boo \n\n\n8\n杨柔荷\nYeoh Yu Ho\n\n\n9\n徐尚业\nNorman See Shangye\n\n\n10\n李冠辰 \nspencer lee guan seng\n\n\n11\n \n \n\n\n12\n \n \n\n\n13\n \n \n\n\n14\n \n \n\n\n15\n \n \n\n\n16\n \n \n\n\n17\n \n \n\n\n18\n \n \n\n\n19\n \n \n\n\n20\n \n \n\n\n\n\n\n\n\n \n注意事项：\n●请携带身分证、穿棉质衣裤、大小毛巾各2件。 \n●学员及陪同家属 : 每一位学员只能由1位家属陪同。 \n●每个时段的报到时间如下:- \n\n\n\n\n\n\n\n\n\n\n  \n\n\n\n\n\n\n\n\n\n\n\n\n周日（日间）\n\n  9:30 报到\n\n\n\n\n\n\n\n\n\n\n\n\n\n\n\n\n\n\n\n\n\n\n\n
URL:https://malaysia.cchysd.org/event/promo240825/
CATEGORIES:原始点推广体验服务
ATTACH;FMTTYPE=image/jpeg:https://malaysia.cchysd.org/wp-content/uploads/2017/10/cch-general-01.jpg
END:VEVENT
END:VCALENDAR