BEGIN:VCALENDAR
VERSION:2.0
PRODID:-//C.C.H. YUAN SHI DIAN Malaysia Organisation - ECPv4.6.2//NONSGML v1.0//EN
CALSCALE:GREGORIAN
METHOD:PUBLISH
X-WR-CALNAME:C.C.H. YUAN SHI DIAN Malaysia Organisation
X-ORIGINAL-URL:https://malaysia.cchysd.org
X-WR-CALDESC:Events for C.C.H. YUAN SHI DIAN Malaysia Organisation
BEGIN:VEVENT
DTSTART;TZID=Asia/Kuala_Lumpur:20250420T093000
DTEND;TZID=Asia/Kuala_Lumpur:20250420T123000
DTSTAMP:20260424T095251
CREATED:20250415T011136Z
LAST-MODIFIED:20250419T143609Z
UID:18758-1745141400-1745152200@malaysia.cchysd.org
SUMMARY:20/04/2025 原始点新常态推广体验服务预约录取名单 Yuan Shi Dian New Normal Promotion and Services Participants List
DESCRIPTION:4月20日周日日间推广体验服务预约录取名单Pertubuhan C.C.H. Yuan Shi Dian Malaysia – 20 April 2025 Sunday Session Promotion & Services \n\n\n\n\n\n\n\n\n\n\nNo\n 中文姓名\n Name\n\n\n1\n骆秀椒\nLoh Siew Cheoh \n\n\n2\n严子维\nNgiam Zhi Wei \n\n\n3\n \nNg Oon Thien\n\n\n4\n蔡顺来\nchua soon lai\n\n\n5\nLau Chiew Lian\nLau Chiew Lian \n\n\n6\nLoh ziwei\nLoh ziwei \n\n\n7\n \nTAN GEK CHUA\n\n\n8\n \nChong Mie Fah\n\n\n9\n刘進武\nLAW Chin Boo \n\n\n10\n \nGan chee ming\n\n\n11\n \n \n\n\n12\n \n \n\n\n13\n \n \n\n\n14\n \n \n\n\n15\n \n \n\n\n16\n \n \n\n\n17\n \n \n\n\n18\n \n \n\n\n19\n \n \n\n\n20\n \n \n\n\n\n\n\n\n \n注意事项：\n●请携带身分证、穿棉质衣裤、大小毛巾各2件。 \n●学员及陪同家属 : 每一位学员只能由1位家属陪同。 \n●每个时段的报到时间如下:- \n\n\n\n\n\n\n\n\n\n\n  \n\n\n\n\n\n\n\n\n\n\n\n周日（日间）\n\n  9:30 报到\n\n\n\n\n\n\n\n\n\n\n\n\n\n\n\n\n\n\n\n\n\n\n
URL:https://malaysia.cchysd.org/event/promo200425/
CATEGORIES:原始点推广体验服务
ATTACH;FMTTYPE=image/jpeg:https://malaysia.cchysd.org/wp-content/uploads/2017/10/cch-general-01.jpg
END:VEVENT
END:VCALENDAR