BEGIN:VCALENDAR
VERSION:2.0
PRODID:-//C.C.H. YUAN SHI DIAN Malaysia Organisation - ECPv4.6.2//NONSGML v1.0//EN
CALSCALE:GREGORIAN
METHOD:PUBLISH
X-WR-CALNAME:C.C.H. YUAN SHI DIAN Malaysia Organisation
X-ORIGINAL-URL:https://malaysia.cchysd.org
X-WR-CALDESC:Events for C.C.H. YUAN SHI DIAN Malaysia Organisation
BEGIN:VEVENT
DTSTART;TZID=Asia/Kuala_Lumpur:20250817T093000
DTEND;TZID=Asia/Kuala_Lumpur:20250817T123000
DTSTAMP:20260424T012203
CREATED:20250810T045930Z
LAST-MODIFIED:20250815T122713Z
UID:19031-1755423000-1755433800@malaysia.cchysd.org
SUMMARY:17/08/2025 原始点推广体验服务预约录取名单Yuan Shi Dian New Normal Promotion and Services Participants List
DESCRIPTION:8月17日周日日间推广体验服务预约录取名单Pertubuhan C.C.H. Yuan Shi Dian Malaysia – 17 August 2025 Sunday Session Promotion & Services \n\n\n\n\n\n\n\n\n\n\n\nNo\n 中文姓名\n Name\n\n\n1\n李潮鑫 \nLee Hon Shin\n\n\n2\n龚靖雯 \nKeng Jing Wen\n\n\n3\n许琳红 \nKOH LING HONG\n\n\n4\n李丽琪\nLEE LAY KEY\n\n\n5\n卢进财 \nLoo Chin Choy\n\n\n6\n \nMurgis A/L Raja Gopal\n\n\n7\n \nTang Chin Yee \n\n\n8\n \n \n\n\n9\n \n \n\n\n10\n \n \n\n\n11\n \n \n\n\n12\n \n \n\n\n13\n \n \n\n\n14\n \n \n\n\n15\n \n \n\n\n16\n \n \n\n\n17\n \n \n\n\n18\n \n \n\n\n19\n \n \n\n\n20\n \n \n\n\n\n\n\n\n\n \n注意事项：\n●请携带身分证、穿棉质衣裤、大小毛巾各2件。 \n●学员及陪同家属 : 每一位学员只能由1位家属陪同。 \n●每个时段的报到时间如下:- \n\n\n\n\n\n\n\n\n\n\n  \n\n\n\n\n\n\n\n\n\n\n\n\n周日（日间）\n\n  9:30 报到\n\n\n\n\n\n\n\n\n\n\n\n\n\n\n\n\n\n\n\n\n\n\n\n
URL:https://malaysia.cchysd.org/event/promo170825/
CATEGORIES:原始点推广体验服务
ATTACH;FMTTYPE=image/jpeg:https://malaysia.cchysd.org/wp-content/uploads/2017/10/cch-general-01.jpg
END:VEVENT
END:VCALENDAR