BEGIN:VCALENDAR
VERSION:2.0
PRODID:-//C.C.H. YUAN SHI DIAN Malaysia Organisation - ECPv4.6.2//NONSGML v1.0//EN
CALSCALE:GREGORIAN
METHOD:PUBLISH
X-WR-CALNAME:C.C.H. YUAN SHI DIAN Malaysia Organisation
X-ORIGINAL-URL:https://malaysia.cchysd.org
X-WR-CALDESC:Events for C.C.H. YUAN SHI DIAN Malaysia Organisation
BEGIN:VEVENT
DTSTART;TZID=Asia/Kuala_Lumpur:20250105T093000
DTEND;TZID=Asia/Kuala_Lumpur:20250105T123000
DTSTAMP:20260424T224857
CREATED:20241231T062459Z
LAST-MODIFIED:20241231T062459Z
UID:18554-1736069400-1736080200@malaysia.cchysd.org
SUMMARY:05/01/2025 原始点新常态推广体验服务预约录取名单 Yuan Shi Dian New Normal Promotion and Services Participants List
DESCRIPTION:1月05日周日日间推广体验服务预约录取名单Pertubuhan C.C.H. Yuan Shi Dian Malaysia – 05 January 2025 Sunday Session Promotion & Services \n\n\n\n\n\n\n\n\nNo\n 中文姓名\n Name\n\n\n1\n \nGulzgan\n\n\n2\n \n \n\n\n3\n \n \n\n\n4\n \n \n\n\n5\n \n \n\n\n6\n \n \n\n\n7\n \n \n\n\n8\n \n \n\n\n9\n \n \n\n\n10\n \n \n\n\n11\n \n \n\n\n12\n \n \n\n\n13\n \n \n\n\n14\n \n \n\n\n15\n \n \n\n\n16\n \n \n\n\n17\n \n \n\n\n18\n \n \n\n\n19\n \n \n\n\n20\n \n \n\n\n\n\n \n注意事项：\n●请携带身分证、穿棉质衣裤、大小毛巾各2件。 \n●学员及陪同家属 : 每一位学员只能由1位家属陪同。 \n●每个时段的报到时间如下:- \n\n\n\n\n\n\n\n\n\n\n  \n\n\n\n\n\n\n\n\n\n周日（日间）\n\n  9:30 报到\n\n\n\n\n\n\n\n\n\n\n\n\n\n\n\n\n\n\n\n\n  \nPoints to be noted:- \n\nKindly wear soft cotton knitted top & bottom\, bring along your Identity Card and 2 pieces each of the large and small towel.\nEach participant can only be accompanied by one (1) family member.\nReporting Time: The reporting time for the participant(s) and their accompanied family member(s) for each time slot is as follows:-\n\n\n  \n\n\n\n\n\n\n\n\n\nSunday Session\n\n 9:30am Reporting Time\n\n\n\n\n\n\n\n\n\n\n\n
URL:https://malaysia.cchysd.org/event/promo050125/
CATEGORIES:原始点推广体验服务
ATTACH;FMTTYPE=image/jpeg:https://malaysia.cchysd.org/wp-content/uploads/2017/10/cch-general-01.jpg
END:VEVENT
END:VCALENDAR