BEGIN:VCALENDAR
VERSION:2.0
PRODID:-//C.C.H. YUAN SHI DIAN Malaysia Organisation - ECPv4.6.2//NONSGML v1.0//EN
CALSCALE:GREGORIAN
METHOD:PUBLISH
X-WR-CALNAME:C.C.H. YUAN SHI DIAN Malaysia Organisation
X-ORIGINAL-URL:https://malaysia.cchysd.org
X-WR-CALDESC:Events for C.C.H. YUAN SHI DIAN Malaysia Organisation
BEGIN:VEVENT
DTSTART;TZID=Asia/Kuala_Lumpur:20250504T093000
DTEND;TZID=Asia/Kuala_Lumpur:20250504T123000
DTSTAMP:20260424T082717
CREATED:20250427T045256Z
LAST-MODIFIED:20250503T233105Z
UID:18799-1746351000-1746361800@malaysia.cchysd.org
SUMMARY:04/05/2025 原始点新常态推广体验服务预约录取名单Yuan Shi Dian New Normal Promotion and Services Participants List
DESCRIPTION:\n\n\n\n\n\n\n\n\n\n5月4日周日日间推广体验服务预约录取名单Pertubuhan C.C.H. Yuan Shi Dian Malaysia – 04 May 2025 Sunday Session Promotion & Services \n\n\n\n\n\n\n\n\n\n\n\nNo\n 中文姓名\n Name\n\n\n1\n黄淑珍 \nNg Sock Thin \n\n\n2\n林馨仪\nLim Sheen Yi \n\n\n3\n林健伟\nLim Kian Wei \n\n\n4\n陈宇恒 \nTan Yi Herng\n\n\n5\n郑年和 \nTay Lian Hoe \n\n\n6\n刘汉钦 \nLAU HAN HENG\n\n\n7\n刘進武\nLAW Chin Boo \n\n\n8\n陈国兴\nChang Kok Heng \n\n\n9\n丘爱萍\nHew Oi Phin \n\n\n10\n李佩萍 \nlee pey ping\n\n\n11\n \n \n\n\n12\n \n \n\n\n13\n \n \n\n\n14\n \n \n\n\n15\n \n \n\n\n16\n \n \n\n\n17\n \n \n\n\n18\n \n \n\n\n19\n \n \n\n\n20\n \n \n\n\n\n\n\n\n\n \n注意事项：\n●请携带身分证、穿棉质衣裤、大小毛巾各2件。 \n●学员及陪同家属 : 每一位学员只能由1位家属陪同。 \n●每个时段的报到时间如下:- \n\n\n\n\n\n\n\n\n\n\n  \n\n\n\n\n\n\n\n\n\n\n\n\n周日（日间）\n\n  9:30 报到\n\n\n\n\n\n\n\n\n\n\n\n\n\n\n\n\n\n\n\n\n\n\n\n\n\n\n\n \n\n\n\n\n\n\n
URL:https://malaysia.cchysd.org/event/promo040525/
CATEGORIES:原始点推广体验服务
ATTACH;FMTTYPE=image/jpeg:https://malaysia.cchysd.org/wp-content/uploads/2017/10/cch-general-01.jpg
END:VEVENT
END:VCALENDAR