BEGIN:VCALENDAR
VERSION:2.0
PRODID:-//C.C.H. YUAN SHI DIAN Malaysia Organisation - ECPv4.6.2//NONSGML v1.0//EN
CALSCALE:GREGORIAN
METHOD:PUBLISH
X-WR-CALNAME:C.C.H. YUAN SHI DIAN Malaysia Organisation
X-ORIGINAL-URL:https://malaysia.cchysd.org
X-WR-CALDESC:Events for C.C.H. YUAN SHI DIAN Malaysia Organisation
BEGIN:VEVENT
DTSTART;TZID=Asia/Kuala_Lumpur:20240602T093000
DTEND;TZID=Asia/Kuala_Lumpur:20240602T123000
DTSTAMP:20260425T140120
CREATED:20240513T034026Z
LAST-MODIFIED:20240601T091441Z
UID:17891-1717320600-1717331400@malaysia.cchysd.org
SUMMARY:02/06/2024 原始点新常态推广体验服务预约录取名单 Yuan Shi Dian New Normal Promotion and Services Participants List
DESCRIPTION:6月2日周日日间推广体验服务预约录取名单Pertubuhan C.C.H. Yuan Shi Dian Malaysia – 2 June 2024 Sunday Session Promotion & Services \n  \n\n\n\n\n\n\n\n\nNo\n中文姓名\nName\n\n\n1\n骆秀椒\nLoh Siew Cheoh \n\n\n2\n 葉志文\n \n\n\n3\n \nLow Swee Moi \n\n\n4\n刘子菁 \nLAU ZI JIN\n\n\n5\n刘良发 \nLAU LEONG HUAT\n\n\n6\nkoh mee leng \nkoh mee leng\n\n\n7\n李凤君 \nLee Fung Kuen\n\n\n8\n李丽娟\nLee Lay Kin \n\n\n9\n黄官生\nKUN SANG Nip \n\n\n10\n黄浩毅 \nWong Howee \n\n\n11\n叶彩萍\nYap Chai Peng \n\n\n12\nKow meng hwa \n Know Meng Hwa\n\n\n13\n石学芬\n chok seah fon\n\n\n14\n \n \n\n\n15\n \n \n\n\n16\n \n \n\n\n17\n \n \n\n\n18\n \n \n\n\n19\n \n \n\n\n20\n \n \n\n\n\n \n注意事项：\n●请携带身分证、穿棉质衣裤、大小毛巾各2件。 \n●学员及陪同家属 : 每一位学员只能由1位家属陪同。 \n●每个时段的报到时间如下:- \n\n\n\n\n\n\n\n\n\n\n  \n\n\n\n周日（日间）\n\n  9:30 报到\n\n\n\n\n\n\n\n\n\n\n\n\n\n\n  \nPoints to be noted:- \n\nKindly wear soft cotton knitted top & bottom\, bring along your Identity Card and 2 pieces each of the large and small towel.\nEach participant can only be accompanied by one (1) family member.\nReporting Time: The reporting time for the participant(s) and their accompanied family member(s) for each time slot is as follows:-\n\n\n  \n\n\n\nSunday Session\n\n 9:30am Reporting Time\n\n\n\n\n\n
URL:https://malaysia.cchysd.org/event/promo020624/
CATEGORIES:原始点推广体验服务
ATTACH;FMTTYPE=image/jpeg:https://malaysia.cchysd.org/wp-content/uploads/2017/10/cch-general-01.jpg
END:VEVENT
END:VCALENDAR